{
 "currentVersion": 11.5,
 "cimVersion": "3.5.0",
 "serviceDescription": " Carte Topo. grise<\/span><\/p><\/div><\/div><\/div>",
 "mapName": "BASEMAP_LIGHTGREY",
 "description": "Carte Topo. grise",
 "copyrightText": "Ville de Luxembourg, Service Topographie et géomatique",
 "supportsDynamicLayers": true,
 "layers": [
  {
   "id": 0,
   "name": "Topographische Texte Labels",
   "parentLayerId": -1,
   "defaultVisibility": true,
   "subLayerIds": null,
   "minScale": 0,
   "maxScale": 0,
   "type": "Feature Layer",
   "geometryType": "esriGeometryPoint",
   "supportsDynamicLegends": true
  },
  {
   "id": 1,
   "name": "Stadtviertel Labels",
   "parentLayerId": -1,
   "defaultVisibility": true,
   "subLayerIds": null,
   "minScale": 0,
   "maxScale": 0,
   "type": "Feature Layer",
   "geometryType": "esriGeometryPolygon",
   "supportsDynamicLegends": true
  },
  {
   "id": 2,
   "name": "Plätze Labels",
   "parentLayerId": -1,
   "defaultVisibility": true,
   "subLayerIds": null,
   "minScale": 0,
   "maxScale": 0,
   "type": "Feature Layer",
   "geometryType": "esriGeometryPoint",
   "supportsDynamicLegends": true
  },
  {
   "id": 3,
   "name": "Straßenraum Labels",
   "parentLayerId": -1,
   "defaultVisibility": true,
   "subLayerIds": null,
   "minScale": 0,
   "maxScale": 0,
   "type": "Feature Layer",
   "geometryType": "esriGeometryPolyline",
   "supportsDynamicLegends": true
  },
  {
   "id": 4,
   "name": "Hausnummern Labels",
   "parentLayerId": -1,
   "defaultVisibility": true,
   "subLayerIds": null,
   "minScale": 0,
   "maxScale": 0,
   "type": "Feature Layer",
   "geometryType": "esriGeometryPoint",
   "supportsDynamicLegends": true
  },
  {
   "id": 5,
   "name": "Rahmen",
   "parentLayerId": -1,
   "defaultVisibility": true,
   "subLayerIds": null,
   "minScale": 400000,
   "maxScale": 0,
   "type": "Feature Layer",
   "geometryType": "esriGeometryPolygon",
   "supportsDynamicLegends": true
  },
  {
   "id": 6,
   "name": "Schienenverkehr - Tram",
   "parentLayerId": -1,
   "defaultVisibility": true,
   "subLayerIds": [
    7,
    8
   ],
   "minScale": 300000,
   "maxScale": 0,
   "type": "Group Layer",
   "supportsDynamicLegends": false
  },
  {
   "id": 7,
   "name": "Schienenverkehr - Tram [L] maxZoom",
   "parentLayerId": 6,
   "defaultVisibility": true,
   "subLayerIds": null,
   "minScale": 0,
   "maxScale": 8001,
   "type": "Feature Layer",
   "geometryType": "esriGeometryPolyline",
   "supportsDynamicLegends": true
  },
  {
   "id": 8,
   "name": "Schienenverkehr - Tram [L] minZoom",
   "parentLayerId": 6,
   "defaultVisibility": true,
   "subLayerIds": null,
   "minScale": 8000,
   "maxScale": 0,
   "type": "Feature Layer",
   "geometryType": "esriGeometryPolyline",
   "supportsDynamicLegends": true
  },
  {
   "id": 9,
   "name": "Öffentlicher Straßenraum - Wege",
   "parentLayerId": -1,
   "defaultVisibility": true,
   "subLayerIds": null,
   "minScale": 8000,
   "maxScale": 0,
   "type": "Feature Layer",
   "geometryType": "esriGeometryPolyline",
   "supportsDynamicLegends": true
  },
  {
   "id": 10,
   "name": "Bauliche Anlagen",
   "parentLayerId": -1,
   "defaultVisibility": true,
   "subLayerIds": [
    11,
    12,
    13
   ],
   "minScale": 15000,
   "maxScale": 0,
   "type": "Group Layer",
   "supportsDynamicLegends": false
  },
  {
   "id": 11,
   "name": "Bauliche Anlagen [L]",
   "parentLayerId": 10,
   "defaultVisibility": true,
   "subLayerIds": null,
   "minScale": 0,
   "maxScale": 0,
   "type": "Feature Layer",
   "geometryType": "esriGeometryPolyline",
   "supportsDynamicLegends": true
  },
  {
   "id": 12,
   "name": "Bauliche Anlagen [F] - Privat",
   "parentLayerId": 10,
   "defaultVisibility": true,
   "subLayerIds": null,
   "minScale": 0,
   "maxScale": 0,
   "type": "Feature Layer",
   "geometryType": "esriGeometryPolygon",
   "supportsDynamicLegends": true
  },
  {
   "id": 13,
   "name": "Bauliche Anlagen [F] - Öffentlich",
   "parentLayerId": 10,
   "defaultVisibility": true,
   "subLayerIds": null,
   "minScale": 0,
   "maxScale": 0,
   "type": "Feature Layer",
   "geometryType": "esriGeometryPolygon",
   "supportsDynamicLegends": true
  },
  {
   "id": 14,
   "name": "Öffentlicher Straßenraum - Straßen",
   "parentLayerId": -1,
   "defaultVisibility": true,
   "subLayerIds": null,
   "minScale": 0,
   "maxScale": 0,
   "type": "Feature Layer",
   "geometryType": "esriGeometryPolygon",
   "supportsDynamicLegends": true
  },
  {
   "id": 15,
   "name": "Schienenverkehr - Eisenbahn",
   "parentLayerId": -1,
   "defaultVisibility": true,
   "subLayerIds": [
    16,
    17
   ],
   "minScale": 300000,
   "maxScale": 0,
   "type": "Group Layer",
   "supportsDynamicLegends": false
  },
  {
   "id": 16,
   "name": "Schienenverkehr - Eisenbahn [L] maxZoom",
   "parentLayerId": 15,
   "defaultVisibility": true,
   "subLayerIds": null,
   "minScale": 0,
   "maxScale": 8001,
   "type": "Feature Layer",
   "geometryType": "esriGeometryPolyline",
   "supportsDynamicLegends": true
  },
  {
   "id": 17,
   "name": "Schienenverkehr - Eisenbahn [L] minZoom",
   "parentLayerId": 15,
   "defaultVisibility": true,
   "subLayerIds": null,
   "minScale": 8000,
   "maxScale": 0,
   "type": "Feature Layer",
   "geometryType": "esriGeometryPolyline",
   "supportsDynamicLegends": true
  },
  {
   "id": 18,
   "name": "Gewässer",
   "parentLayerId": -1,
   "defaultVisibility": true,
   "subLayerIds": null,
   "minScale": 0,
   "maxScale": 0,
   "type": "Feature Layer",
   "geometryType": "esriGeometryPolygon",
   "supportsDynamicLegends": true
  },
  {
   "id": 19,
   "name": "Grünflächen",
   "parentLayerId": -1,
   "defaultVisibility": true,
   "subLayerIds": null,
   "minScale": 0,
   "maxScale": 0,
   "type": "Feature Layer",
   "geometryType": "esriGeometryPolygon",
   "supportsDynamicLegends": true
  },
  {
   "id": 20,
   "name": "Hintergrund",
   "parentLayerId": -1,
   "defaultVisibility": true,
   "subLayerIds": null,
   "minScale": 0,
   "maxScale": 0,
   "type": "Feature Layer",
   "geometryType": "esriGeometryPolygon",
   "supportsDynamicLegends": true
  }
 ],
 "tables": [],
 "spatialReference": {
  "wkid": 102100,
  "latestWkid": 3857,
  "xyTolerance": 0.001,
  "zTolerance": 0.001,
  "mTolerance": 0.001,
  "falseX": -20037700,
  "falseY": -30241100,
  "xyUnits": 10000,
  "falseZ": -100000,
  "zUnits": 10000,
  "falseM": -100000,
  "mUnits": 10000
 },
 "singleFusedMapCache": true,
 "tileInfo": {
  "rows": 256,
  "cols": 256,
  "dpi": 96,
  "format": "PNG",
  "compressionQuality": 0,
  "origin": {
   "x": -2.0037508342787E7,
   "y": 2.0037508342787E7
  },
  "spatialReference": {
   "wkid": 102100,
   "latestWkid": 3857,
   "xyTolerance": 0.001,
   "zTolerance": 0.001,
   "mTolerance": 0.001,
   "falseX": -20037700,
   "falseY": -30241100,
   "xyUnits": 1.4892314192838538E8,
   "falseZ": -100000,
   "zUnits": 10000,
   "falseM": -100000,
   "mUnits": 10000
  },
  "lods": [
   {
    "level": 0,
    "resolution": 156543.033928,
    "scale": 5.91657527591555E8
   },
   {
    "level": 1,
    "resolution": 78271.5169639999,
    "scale": 2.95828763795777E8
   },
   {
    "level": 2,
    "resolution": 39135.7584820001,
    "scale": 1.47914381897889E8
   },
   {
    "level": 3,
    "resolution": 19567.8792409999,
    "scale": 7.3957190948944E7
   },
   {
    "level": 4,
    "resolution": 9783.93962049996,
    "scale": 3.6978595474472E7
   },
   {
    "level": 5,
    "resolution": 4891.96981024998,
    "scale": 1.8489297737236E7
   },
   {
    "level": 6,
    "resolution": 2445.98490512499,
    "scale": 9244648.868618
   },
   {
    "level": 7,
    "resolution": 1222.99245256249,
    "scale": 4622324.434309
   },
   {
    "level": 8,
    "resolution": 611.49622628138,
    "scale": 2311162.217155
   },
   {
    "level": 9,
    "resolution": 305.748113140558,
    "scale": 1155581.108577
   },
   {
    "level": 10,
    "resolution": 152.874056570411,
    "scale": 577790.554289
   },
   {
    "level": 11,
    "resolution": 76.4370282850732,
    "scale": 288895.277144
   },
   {
    "level": 12,
    "resolution": 38.2185141425366,
    "scale": 144447.638572
   },
   {
    "level": 13,
    "resolution": 19.1092570712683,
    "scale": 72223.819286
   },
   {
    "level": 14,
    "resolution": 9.55462853563415,
    "scale": 36111.909643
   },
   {
    "level": 15,
    "resolution": 4.77731426794937,
    "scale": 18055.954822
   },
   {
    "level": 16,
    "resolution": 2.38865713397468,
    "scale": 9027.977411
   },
   {
    "level": 17,
    "resolution": 1.19432856685505,
    "scale": 4513.988705
   },
   {
    "level": 18,
    "resolution": 0.597164283559817,
    "scale": 2256.994353
   },
   {
    "level": 19,
    "resolution": 0.298582141647617,
    "scale": 1128.497176
   },
   {
    "level": 20,
    "resolution": 0.14929107082380833,
    "scale": 564.248588
   },
   {
    "level": 21,
    "resolution": 0.07464553541190416,
    "scale": 282.124294
   },
   {
    "level": 22,
    "resolution": 0.03732276770595208,
    "scale": 141.062147
   },
   {
    "level": 23,
    "resolution": 0.01866138385297604,
    "scale": 70.5310735
   }
  ]
 },
 "storageInfo": {
  "storageFormat": "esriMapCacheStorageModeCompactV2",
  "packetSize": 128
 },
 "initialExtent": {
  "xmin": 681179.232044227,
  "ymin": 6378332.827379223,
  "xmax": 683503.3954355842,
  "ymax": 6380205.534572259,
  "spatialReference": {
   "wkid": 102100,
   "latestWkid": 3857,
   "xyTolerance": 0.001,
   "zTolerance": 0.001,
   "mTolerance": 0.001,
   "falseX": -20037700,
   "falseY": -30241100,
   "xyUnits": 10000,
   "falseZ": -100000,
   "zUnits": 10000,
   "falseM": -100000,
   "mUnits": 10000
  }
 },
 "fullExtent": {
  "xmin": 664338.9077320051,
  "ymin": 6352582.045700008,
  "xmax": 705551.8802924672,
  "ymax": 6397133.202012246,
  "spatialReference": {
   "wkid": 102100,
   "latestWkid": 3857,
   "xyTolerance": 0.001,
   "zTolerance": 0.001,
   "mTolerance": 0.001,
   "falseX": -20037700,
   "falseY": -30241100,
   "xyUnits": 10000,
   "falseZ": -100000,
   "zUnits": 10000,
   "falseM": -100000,
   "mUnits": 10000
  }
 },
 "datesInUnknownTimezone": false,
 "minScale": 288895.277144,
 "maxScale": 70.5310735,
 "minLOD": 11,
 "maxLOD": 20,
 "units": "esriMeters",
 "supportedImageFormatTypes": "PNG32,PNG24,PNG,JPG,DIB,TIFF,EMF,PS,PDF,GIF,SVG,SVGZ,BMP",
 "documentInfo": {
  "Title": "Carte Topo. grise",
  "Author": "",
  "Comments": "Carte Topo. grise",
  "Subject": "Carte Topo. grise",
  "Category": "",
  "Version": "3.4.0",
  "AntialiasingMode": "Fast",
  "TextAntialiasingMode": "Force",
  "Keywords": "Carte Topographique,1:5000,grey"
 },
 "supportsQueryDomains": true,
 "capabilities": "Map,Query,Data,TileMap",
 "supportedQueryFormats": "JSON, geoJSON, PBF",
 "exportTilesAllowed": true,
 "maxExportTilesCount": 500000,
 "referenceScale": 0.0,
 "datumTransformations": [
  {
   "geoTransforms": [
    {
     "wkid": 5484,
     "latestWkid": 5484,
     "transformForward": true,
     "name": "LUREF_To_WGS_1984_4"
    }
   ]
  },
  {
   "geoTransforms": [
    {
     "wkid": 5484,
     "latestWkid": 5484,
     "transformForward": false,
     "name": "LUREF_To_WGS_1984_4"
    }
   ]
  }
 ],
 "supportsDatumTransformation": true,
 "floorAwareMapProperties": {
  "defaultFloorFilterSettings": {
   "isEnabled": false
  }
 },
 "archivingInfo": {
  "supportsHistoricMoment": false
 },
 "supportsClipping": true,
 "supportsSpatialFilter": true,
 "supportsTimeRelation": true,
 "supportsQueryDataElements": true,
 "mapUnits": {
  "uwkid": 9001
 },
 "maxSelectionCount": 2000,
 "maxRecordCount": 2000,
 "maxImageHeight": 4096,
 "maxImageWidth": 4096,
 "supportedExtensions": "",
 "resampling": true,
 "serviceItemId": "13c7cddcdde04f17a5c64c0ffb9b2d32"
}
